BEGIN:VCALENDAR
VERSION:2.0
PRODID:-//Bridge of Grace - ECPv6.15.19//NONSGML v1.0//EN
CALSCALE:GREGORIAN
METHOD:PUBLISH
X-WR-CALNAME:Bridge of Grace
X-ORIGINAL-URL:https://www.bgministries.org
X-WR-CALDESC:Events for Bridge of Grace
REFRESH-INTERVAL;VALUE=DURATION:PT1H
X-Robots-Tag:noindex
X-PUBLISHED-TTL:PT1H
BEGIN:VTIMEZONE
TZID:America/Indiana/Indianapolis
BEGIN:DAYLIGHT
TZOFFSETFROM:-0500
TZOFFSETTO:-0400
TZNAME:EDT
DTSTART:20240310T070000
END:DAYLIGHT
BEGIN:STANDARD
TZOFFSETFROM:-0400
TZOFFSETTO:-0500
TZNAME:EST
DTSTART:20241103T060000
END:STANDARD
BEGIN:DAYLIGHT
TZOFFSETFROM:-0500
TZOFFSETTO:-0400
TZNAME:EDT
DTSTART:20250309T070000
END:DAYLIGHT
BEGIN:STANDARD
TZOFFSETFROM:-0400
TZOFFSETTO:-0500
TZNAME:EST
DTSTART:20251102T060000
END:STANDARD
BEGIN:DAYLIGHT
TZOFFSETFROM:-0500
TZOFFSETTO:-0400
TZNAME:EDT
DTSTART:20260308T070000
END:DAYLIGHT
BEGIN:STANDARD
TZOFFSETFROM:-0400
TZOFFSETTO:-0500
TZNAME:EST
DTSTART:20261101T060000
END:STANDARD
END:VTIMEZONE
BEGIN:VEVENT
DTSTART;TZID=America/Indiana/Indianapolis:20250614T090000
DTEND;TZID=America/Indiana/Indianapolis:20250614T110000
DTSTAMP:20260422T154557
CREATED:20250529T155648Z
LAST-MODIFIED:20250529T160628Z
UID:11243-1749891600-1749898800@www.bgministries.org
SUMMARY:Clase: Comprar la Casa de Sus Sueños 2
DESCRIPTION:Buying Your Dream House is Now Possible with an ITIN. \nBridge of Grace is pleased to welcome Midwest American Bank for a workshop for Spanish speaking individuals interested in buying a house and who may be able to do so with an ITIN. \nThose with an ITIN and SSN with a work permit are welcome to attend the event! \n_____ \nComprar la casa de sus sueños ahora es posible con ITIN. Aprende como hacer su sueño realidad\, cupo limitado. \n14 de Junio – 9am-11am. Bridge of Grace – Door 2B. Preguntas: David – 260-4166298 \nRegistrate aqui.
URL:https://www.bgministries.org/event/clase2/
LOCATION:Bridge of Grace – Building B\, 909 Elmrow Dr\, Fort Wayne\, IN\, 46802\, United States
ATTACH;FMTTYPE=image/png:https://www.bgministries.org/wp-content/uploads/2025/05/Comprar-la-casa-de-sus-sueños-ahora-es-posible-con-ITIN.png
END:VEVENT
END:VCALENDAR