BEGIN:VCALENDAR
VERSION:2.0
PRODID:-//Bridge of Grace - ECPv6.15.19//NONSGML v1.0//EN
CALSCALE:GREGORIAN
METHOD:PUBLISH
X-WR-CALNAME:Bridge of Grace
X-ORIGINAL-URL:https://www.bgministries.org
X-WR-CALDESC:Events for Bridge of Grace
REFRESH-INTERVAL;VALUE=DURATION:PT1H
X-Robots-Tag:noindex
X-PUBLISHED-TTL:PT1H
BEGIN:VTIMEZONE
TZID:America/Indiana/Indianapolis
BEGIN:DAYLIGHT
TZOFFSETFROM:-0500
TZOFFSETTO:-0400
TZNAME:EDT
DTSTART:20250309T070000
END:DAYLIGHT
BEGIN:STANDARD
TZOFFSETFROM:-0400
TZOFFSETTO:-0500
TZNAME:EST
DTSTART:20251102T060000
END:STANDARD
BEGIN:DAYLIGHT
TZOFFSETFROM:-0500
TZOFFSETTO:-0400
TZNAME:EDT
DTSTART:20260308T070000
END:DAYLIGHT
BEGIN:STANDARD
TZOFFSETFROM:-0400
TZOFFSETTO:-0500
TZNAME:EST
DTSTART:20261101T060000
END:STANDARD
BEGIN:DAYLIGHT
TZOFFSETFROM:-0500
TZOFFSETTO:-0400
TZNAME:EDT
DTSTART:20270314T070000
END:DAYLIGHT
BEGIN:STANDARD
TZOFFSETFROM:-0400
TZOFFSETTO:-0500
TZNAME:EST
DTSTART:20271107T060000
END:STANDARD
END:VTIMEZONE
BEGIN:VEVENT
DTSTART;TZID=America/Indiana/Indianapolis:20260212T073000
DTEND;TZID=America/Indiana/Indianapolis:20260212T090000
DTSTAMP:20260423T050553
CREATED:20251210T195334Z
LAST-MODIFIED:20260108T172728Z
UID:11560-1770881400-1770886800@www.bgministries.org
SUMMARY:Conversations Over Coffee Session 2
DESCRIPTION:Join Bridge of Grace for our six-session series\, Conversations Over Coffee! \nOur goal is to promote learning and understanding to positively influence the service and revitalization of southeast Fort Wayne and beyond. We invite you to join the conversation. \nOur thought-provoking series starts is taught by Javier Mondragon. We will meet the second Thursday of each month through June. Don’t worry if you can’t attend every session; each meeting helps build your knowledge\, but missing one won’t set you back in your learning journey. \nEach month\, doors open and coffee will be ready at 7:30 am. The conversation will start at 8 am. \nEnter through Door 2B on the north side of our new building. Parking is available in our lot located off of Fairfax Ave (east of our new building). \nCLICK HERE TO REGISTER! \nSix-Session Training \nJanuary 8 -The Framework for Understanding Poverty \nFebruary 12 -Understanding Chronic vs. Crisis and Betterment vs. Development \nMarch 12 -Best Practices in Responding to Poverty \nApril 9 -Wealth Creators and the Wealth Processors \nMay 14 -Asset-Based Community Development Approach \nJune 11 –Call to Action – Next Steps
URL:https://www.bgministries.org/event/coc2026/
LOCATION:Bridge of Grace – Building B\, 909 Elmrow Dr\, Fort Wayne\, IN\, 46802\, United States
ATTACH;FMTTYPE=image/png:https://www.bgministries.org/wp-content/uploads/2025/12/Session-2-FB-conversations-over-coffee-2026-1.png
END:VEVENT
END:VCALENDAR