BEGIN:VCALENDAR
VERSION:2.0
PRODID:-//Bridge of Grace - ECPv6.15.19//NONSGML v1.0//EN
CALSCALE:GREGORIAN
METHOD:PUBLISH
X-WR-CALNAME:Bridge of Grace
X-ORIGINAL-URL:https://www.bgministries.org
X-WR-CALDESC:Events for Bridge of Grace
REFRESH-INTERVAL;VALUE=DURATION:PT1H
X-Robots-Tag:noindex
X-PUBLISHED-TTL:PT1H
BEGIN:VTIMEZONE
TZID:America/Indiana/Indianapolis
BEGIN:DAYLIGHT
TZOFFSETFROM:-0500
TZOFFSETTO:-0400
TZNAME:EDT
DTSTART:20240310T070000
END:DAYLIGHT
BEGIN:STANDARD
TZOFFSETFROM:-0400
TZOFFSETTO:-0500
TZNAME:EST
DTSTART:20241103T060000
END:STANDARD
BEGIN:DAYLIGHT
TZOFFSETFROM:-0500
TZOFFSETTO:-0400
TZNAME:EDT
DTSTART:20250309T070000
END:DAYLIGHT
BEGIN:STANDARD
TZOFFSETFROM:-0400
TZOFFSETTO:-0500
TZNAME:EST
DTSTART:20251102T060000
END:STANDARD
BEGIN:DAYLIGHT
TZOFFSETFROM:-0500
TZOFFSETTO:-0400
TZNAME:EDT
DTSTART:20260308T070000
END:DAYLIGHT
BEGIN:STANDARD
TZOFFSETFROM:-0400
TZOFFSETTO:-0500
TZNAME:EST
DTSTART:20261101T060000
END:STANDARD
END:VTIMEZONE
BEGIN:VEVENT
DTSTART;TZID=America/Indiana/Indianapolis:20251217T180000
DTEND;TZID=America/Indiana/Indianapolis:20251217T200000
DTSTAMP:20260423T031443
CREATED:20251119T182717Z
LAST-MODIFIED:20251119T183517Z
UID:11522-1765994400-1766001600@www.bgministries.org
SUMMARY:Holiday Give Back 2025
DESCRIPTION:Join us for a family friendly event featuring a free dinner and the opportunity to make simple blankets for Fort Wayne’s homeless this holiday season. A great time to volunteer with your friends\, church\, coworkers\, or family! \nDECEMBER 17\, 2025 | 6pm-8pm \nBridge of Grace – Gym | Door 3A | 5100 Gaywood Dr. | Fort Wayne IN 46806 \nWe will also be collecting: \n\nWinter Hats\nWinter Gloves\nWinter Scarves\nNew Socks\n\nDonate to be entered into a drawing for prizes! \nPlease RSVP to Becky Baker by December 12: becky@bgministries.org | 260-744-4446 ext 116
URL:https://www.bgministries.org/event/holiday-give-back-2025/
LOCATION:Bridge of Grace\, 5100 Gaywood Drive\, Fort Wayne\, IN\, 46806\, United States
ATTACH;FMTTYPE=image/jpeg:https://www.bgministries.org/wp-content/uploads/2025/11/487021382_1051012117064340_2199356527109853813_n.jpg
END:VEVENT
END:VCALENDAR