BEGIN:VCALENDAR
VERSION:2.0
PRODID:-//Bridge of Grace - ECPv6.15.19//NONSGML v1.0//EN
CALSCALE:GREGORIAN
METHOD:PUBLISH
X-WR-CALNAME:Bridge of Grace
X-ORIGINAL-URL:https://www.bgministries.org
X-WR-CALDESC:Events for Bridge of Grace
REFRESH-INTERVAL;VALUE=DURATION:PT1H
X-Robots-Tag:noindex
X-PUBLISHED-TTL:PT1H
BEGIN:VTIMEZONE
TZID:America/Indiana/Indianapolis
BEGIN:DAYLIGHT
TZOFFSETFROM:-0500
TZOFFSETTO:-0400
TZNAME:EDT
DTSTART:20240310T070000
END:DAYLIGHT
BEGIN:STANDARD
TZOFFSETFROM:-0400
TZOFFSETTO:-0500
TZNAME:EST
DTSTART:20241103T060000
END:STANDARD
BEGIN:DAYLIGHT
TZOFFSETFROM:-0500
TZOFFSETTO:-0400
TZNAME:EDT
DTSTART:20250309T070000
END:DAYLIGHT
BEGIN:STANDARD
TZOFFSETFROM:-0400
TZOFFSETTO:-0500
TZNAME:EST
DTSTART:20251102T060000
END:STANDARD
BEGIN:DAYLIGHT
TZOFFSETFROM:-0500
TZOFFSETTO:-0400
TZNAME:EDT
DTSTART:20260308T070000
END:DAYLIGHT
BEGIN:STANDARD
TZOFFSETFROM:-0400
TZOFFSETTO:-0500
TZNAME:EST
DTSTART:20261101T060000
END:STANDARD
END:VTIMEZONE
BEGIN:VEVENT
DTSTART;TZID=America/Indiana/Indianapolis:20251101T093000
DTEND;TZID=America/Indiana/Indianapolis:20251101T113000
DTSTAMP:20260423T012400
CREATED:20250917T165455Z
LAST-MODIFIED:20250925T183629Z
UID:11372-1761989400-1761996600@www.bgministries.org
SUMMARY:Rake & Bake
DESCRIPTION:Rake & Bake: Mount Vernon Park and Pettit-Rudisill Neighborhoods  \nHelping residents rake leaves. | Creating opportunity for neighbors to help neighbors. | Building community.   \nOn Saturday November 1 (the Saturday prior to the first City Leaf Pick-up for southeast Fort Wayne) we will rake leaves to the curbs of neighbors already designated for participation\, followed by a time of fellowship over baked goods!   \nDetails: \n\nDesignated streets in MVP and PRN will be identified for this event.\n\n\nNeighbors and Volunteers will canvas the streets between October 12 – 24 asking:\n\nIf individuals need help raking leaves.  \nIf they would be available and want to help with raking.\nIf they want to provide baked good for the community gathering.\n\n\n\n\nTeams of neighbors and volunteers will be organized and a request to bring rakes and leaf blowers will be extended. \n\n\nWe will work with Neighborlink to see if any additional homes could be helped and to also request to borrow extra gloves and rakes.\n\n  \nDay of Rake and Bake:  \n9:00am –  Set-up team arrives at Bridge of Grace parking lot (5100 Gaywood Drive\, Fort Wayne\, IN 46806) \n9:30am – Volunteers gather at location for assignments\, prayer etc.  \n9:45am – 11:00am –  Teams rake and blow leaves.  \n11:05am –  All gather back at location for refreshments and baked goods. \n  \nOur Needs: \nPeople – to help canvas area some time between October 12-24   \nPeople – to help rake on Saturday\, November 1st  \nPeople – to help with organization of details that day  \nSupplies – rakes\, gloves\, leaf blowers     \nPlease RSVP to Becky Baker: becky@bgministries.org | 260-580-1009
URL:https://www.bgministries.org/event/rake-bake/
LOCATION:Bridge of Grace\, 5100 Gaywood Drive\, Fort Wayne\, IN\, 46806\, United States
ATTACH;FMTTYPE=image/jpeg:https://www.bgministries.org/wp-content/uploads/2025/09/getty-images-r_zvLyDohx8-unsplash-scaled.jpg
END:VEVENT
END:VCALENDAR